BEGIN:VCALENDAR
VERSION:2.0
PRODID:-//Dallas Junior Police Academy - ECPv6.15.13//NONSGML v1.0//EN
CALSCALE:GREGORIAN
METHOD:PUBLISH
X-WR-CALNAME:Dallas Junior Police Academy
X-ORIGINAL-URL:https://www.dallasjpa.org
X-WR-CALDESC:Events for Dallas Junior Police Academy
REFRESH-INTERVAL;VALUE=DURATION:PT1H
X-Robots-Tag:noindex
X-PUBLISHED-TTL:PT1H
BEGIN:VTIMEZONE
TZID:UTC
BEGIN:STANDARD
TZOFFSETFROM:+0000
TZOFFSETTO:+0000
TZNAME:UTC
DTSTART:20220101T000000
END:STANDARD
END:VTIMEZONE
BEGIN:VEVENT
DTSTART;TZID=UTC:20230131T080000
DTEND;TZID=UTC:20230131T160000
DTSTAMP:20260424T105439
CREATED:20230124T202142Z
LAST-MODIFIED:20230124T203656Z
UID:551-1675152000-1675180800@www.dallasjpa.org
SUMMARY:Dallas JPA and Fire Academy
DESCRIPTION:
URL:https://www.dallasjpa.org/event/dallas-jpa-and-fire-academy/
LOCATION:Dallas Fire Academy\, 5000 Dolphin Road\, Dallas\, TX\, 75223\, United States
CATEGORIES:Dallas JPA and Fire Academy
ORGANIZER;CN="Dallas Junior Police Academy":MAILTO:info@dallasjpa.org
END:VEVENT
END:VCALENDAR